BEGIN:VCALENDAR
VERSION:2.0
BEGIN:VEVENT
CLASS:PUBLIC
CATEGORIES:MEETING
DTSTART;TZID=America/New_York:20250829T180000
DTEND;TZID=America/New_York:20250829T180000
SUMMARY:LESSON ZERO at Eavesdrop Brewery
DESCRIPTION:Price: free\nAge Limit: All Ages\n\nDetails: Good food and drinks, friendly folks, no cover, plenty of parking, and way cool music from Oasis recording artist LESSON ZERO
LOCATION:Eavesdrop Brewery - 7223 Centreville Road, Manassas, VA, 20111, US
END:VEVENT

END:VCALENDAR
