BEGIN:VCALENDAR
VERSION:2.0
BEGIN:VEVENT
CLASS:PUBLIC
CATEGORIES:MEETING
DTSTART;TZID=America/New_York:20250906T170000
DTEND;TZID=America/New_York:20250906T170000
SUMMARY:Lisa Martin at Glendale Ridge
DESCRIPTION:Price: $38\nClick here to buy tickets: https://www.glendaleridgevineyard.com/tickets/\nAge Limit: All Ages\n\nDetails: Lisa Martin Trio opens for The Linda Ronstadt Experience at the beautiful Glendale RidgeVineyard!!! Visit the website for Tickets and info.
LOCATION:Glendale Ridge - 155 Glendale Road, Southampton, MA, 01073, US
END:VEVENT

END:VCALENDAR
