BEGIN:VCALENDAR
VERSION:2.0
BEGIN:VEVENT
CLASS:PUBLIC
CATEGORIES:MEETING
DTSTART;TZID=America/Chicago:20251113T200000
DTEND;TZID=America/Chicago:20251113T200000
SUMMARY:Texas Flood at Main Street Crossing
DESCRIPTION:Click here to buy tickets: https://mainstreetcrossing.com/artist-page-stevie-ray-vaughan-tribute-texas-flood-nov-2025/\nAge Limit: All Ages
LOCATION:Main Street Crossing - 111 W Main St, Tomball, TX, 77375, US
END:VEVENT

END:VCALENDAR
