BEGIN:VCALENDAR
VERSION:2.0
BEGIN:VEVENT
CLASS:PUBLIC
CATEGORIES:MEETING
DTSTART;TZID=Europe/London:20250913T120000
DTEND;TZID=Europe/London:20250913T120000
SUMMARY:The Zone at HMV 
DESCRIPTION:Price: Free\nAge Limit: All Ages\n\nDetails: Music in the City is a FREE festival that takes places in venues all over Southampton - come and see us and a whole load of other great artists and bands who will be performing on the day - we&#39;ll be rounding things off at 5pm at HMV!
LOCATION:HMV  - 176-178 High St, Southampton, UK
END:VEVENT

END:VCALENDAR
