BEGIN:VCALENDAR
VERSION:2.0
BEGIN:VEVENT
CLASS:PUBLIC
CATEGORIES:MEETING
DTSTART;TZID=Asia/Kolkata:20250716T200000
DTEND;TZID=Asia/Kolkata:20250716T200000
SUMMARY:Arogya Yoga School at Arogya Yoga School
DESCRIPTION:Price: 599\nClick here to buy tickets: https://www.arogyayogaschool.com/sound-healing-course-in-rishikesh.php\nAge Limit: All Ages\n\nDetails: Sound Healing Certification\nSound healing is a powerful modality that uses vibrations, frequencies, and music to promote physical, emotional, and spiritual well-being. A Sound Healing Certification program equips individuals with the knowledge and skills to practice this holistic therapy professionally. This certification is ideal for wellness practitioners, therapists, yoga instructors, and anyone passionate about the healing arts.\n\nSound Healing Certification Program Overview\nThe Sound Healing Certification program typically includes theoretical foundations, hands-on training, and practical application. Students learn how sound affects the body and mind, the science behind frequency and vibration, and the history of sound healing across cultures. The curriculum often integrates modern scientific insights with ancient wisdom from traditions such as Tibetan singing bowls, crystal bowls, tuning forks, gong baths, voice work, and drumming.\n\nCore Topics Covered in Sound Healing Certification\nPrinciples of Sound and Vibration – Understanding how sound waves interact with the human body, including the role of resonance and entrainment.\n\nInstruments and Tools – Training in the use of sound healing instruments like singing bowls, gongs, tuning forks, and voice.\n\nChakras and Energy Systems – Exploring how sound influences the energetic body and can help balance chakras.\n\nSound and the Nervous System – Studying the impact of sound on stress, relaxation, brainwaves, and emotional well-being.\n\nFacilitating Sessions – Learning how to conduct individual and group sound healing sessions with professionalism and sensitivity.\n\nEthics and Safety – Best practices, contraindications, and ethical guidelines for sound healing practitioners.
LOCATION:Arogya Yoga School - Lane Number 10, Rishikesh, UT, 249201, IN
END:VEVENT

END:VCALENDAR
