BEGIN:VCALENDAR
VERSION:2.0
BEGIN:VEVENT
CLASS:PUBLIC
CATEGORIES:MEETING
DTSTART;TZID=America/Denver:20250810T150000
DTEND;TZID=America/Denver:20250810T150000
SUMMARY:Brian Grace Music at Paradox Beer Company
DESCRIPTION:Age Limit: All Ages\n\nDetails: Brian Grace will be at Paradox Beer Company in Divide on Sunday, August 10th at 3 PM!
LOCATION:Paradox Beer Company - 10 Buffalo Court, Divide, CO, 80814, US
END:VEVENT

END:VCALENDAR
