BEGIN:VCALENDAR
VERSION:2.0
BEGIN:VEVENT
CLASS:PUBLIC
CATEGORIES:MEETING
DTSTART;TZID=America/Denver:20250808T180000
DTEND;TZID=America/Denver:20250808T180000
SUMMARY:Brian Grace Music at Loveland Ale Works
DESCRIPTION:Age Limit: All Ages\n\nDetails: Brian Grace will be at Loveland Aleworks on Saturday, August 8th at 6 PM!
LOCATION:Loveland Ale Works - 118 West 4th Street, Loveland, CO, 80537, US
END:VEVENT

END:VCALENDAR
