BEGIN:VCALENDAR
VERSION:2.0
BEGIN:VEVENT
CLASS:PUBLIC
CATEGORIES:MEETING
DTSTART;TZID=America/Regina:20251005T170000
DTEND;TZID=America/Regina:20251005T170000
SUMMARY:Michael Charles at Pumpjacks Cathedral
DESCRIPTION:Age Limit: All Ages\n\nDetails: “The Guitars, Music and Miles 2025 tour drives the power trio of Australian born Michael Charles straight to you for a non-stop concert explosion of music and guitars, contemporary blues, high energy rock, and soulful ballads from the forty-one release discography of multi-genre Chicago Blues Hall of Famer Michael Charles.” 
LOCATION:Pumpjacks Cathedral - 2062 Albert Street, Regina, SK, S4P, CA
END:VEVENT

END:VCALENDAR
