BEGIN:VCALENDAR
VERSION:2.0
BEGIN:VEVENT
CLASS:PUBLIC
CATEGORIES:MEETING
DTSTART;TZID=America/New_York:20260711T130000
DTEND;TZID=America/New_York:20260711T130000
SUMMARY:Eleni Skiba at Conchy Joe's
DESCRIPTION:Age Limit: All Ages\n\nDetails: Miz Behavin&#39;
LOCATION:Conchy Joe's - 3945 Northeast Indian River Drive, Jensen Beach, FL, 34957, US
END:VEVENT

END:VCALENDAR
