BEGIN:VCALENDAR
VERSION:2.0
BEGIN:VEVENT
CLASS:PUBLIC
CATEGORIES:MEETING
DTSTART;TZID=America/Chicago:20250824T170000
DTEND;TZID=America/Chicago:20250824T170000
SUMMARY:Michael Charles at 2 Brothers Bar & Grill
DESCRIPTION:Age Limit: All Ages\n\nDetails: “The Guitars, Music and Miles 2025 tour drives the power trio of Australian born Michael Charles straight to you for a non-stop concert explosion of music and guitars, contemporary blues, high energy rock, and soulful ballads from the forty-one release discography of multi-genre Chicago Blues Hall of Famer Michael Charles.” 
LOCATION:2 Brothers Bar & Grill - N1161 Clover Road, Genoa City, WI, 53128, US
END:VEVENT

END:VCALENDAR
