BEGIN:VCALENDAR
VERSION:2.0
BEGIN:VEVENT
CLASS:PUBLIC
CATEGORIES:MEETING
DTSTART;TZID=America/New_York:20260225T180000
DTEND;TZID=America/New_York:20260225T180000
SUMMARY:Eleni Skiba at Delray Marketplace
DESCRIPTION:Age Limit: All Ages\n\nDetails: LiveFeed
LOCATION:Delray Marketplace - 14851 Lyons Road, Delray Beach, FL, 33446, US
END:VEVENT

END:VCALENDAR
