BEGIN:VCALENDAR
VERSION:2.0
BEGIN:VEVENT
CLASS:PUBLIC
CATEGORIES:MEETING
DTSTART;TZID=Europe/Stockholm:20250903T180000
DTEND;TZID=Europe/Stockholm:20250903T180000
SUMMARY:Spiros Soukis at Engelen
DESCRIPTION:Price: $10\nClick here to buy tickets: https://www.engelen.se/en/\nAge Limit: All Ages\n\nDetails: Rockin`Blues with Greek soul !
LOCATION:Engelen - 59 Kornhamnstorg, Stockholm, 111 27, SE
END:VEVENT

END:VCALENDAR
