BEGIN:VCALENDAR
VERSION:2.0
BEGIN:VEVENT
CLASS:PUBLIC
CATEGORIES:MEETING
DTSTART;TZID=America/Regina:20260410T220000
DTEND;TZID=America/Regina:20260410T220000
SUMMARY:Michael Charles at City Limits Inn
DESCRIPTION:Age Limit: 18+ or w/ adult\n\nDetails: 2026 Tour
LOCATION:City Limits Inn - Yorkton, SK, CA
END:VEVENT

END:VCALENDAR
