BEGIN:VCALENDAR
VERSION:2.0
BEGIN:VEVENT
CLASS:PUBLIC
CATEGORIES:MEETING
DTSTART;TZID=America/Edmonton:20260414T220000
DTEND;TZID=America/Edmonton:20260414T220000
SUMMARY:Michael Charles at The Rose and Crown
DESCRIPTION:Age Limit: 18+ or w/ adult\n\nDetails: 2026 Tour
LOCATION:The Rose and Crown - Banff, BC, CA
END:VEVENT

END:VCALENDAR
