BEGIN:VCALENDAR
VERSION:2.0
BEGIN:VEVENT
CLASS:PUBLIC
CATEGORIES:MEETING
DTSTART;TZID=America/Denver:20250822T180000
DTEND;TZID=America/Denver:20250822T180000
SUMMARY:Brian Grace Music at Cabin Creek Brewing
DESCRIPTION:Age Limit: All Ages\n\nDetails: Brian Grace will be at Cabin Creek Brewing on Friday, August 22nd from 6-8 PM!
LOCATION:Cabin Creek Brewing - 577 Twenty-Second Street, Georgetown, CO, 80444, US
END:VEVENT

END:VCALENDAR
