BEGIN:VCALENDAR
VERSION:2.0
BEGIN:VEVENT
CLASS:PUBLIC
CATEGORIES:MEETING
DTSTART;TZID=America/Denver:20250815T180000
DTEND;TZID=America/Denver:20250815T180000
SUMMARY:Brian Grace Music at Two Sisters Restaurant
DESCRIPTION:Age Limit: All Ages\n\nDetails: Brian Grace will be at Two Sisters Restaurant on Friday, August 15th from 6-8 PM!
LOCATION:Two Sisters Restaurant - 506 9th Street, Penrose, CO, 81240, US
END:VEVENT

END:VCALENDAR
