BEGIN:VCALENDAR
VERSION:2.0
BEGIN:VEVENT
CLASS:PUBLIC
CATEGORIES:MEETING
DTSTART;TZID=America/Denver:20250720T120000
DTEND;TZID=America/Denver:20250720T120000
SUMMARY:Brian Grace Music at South 40 Bar & Grill
DESCRIPTION:Age Limit: All Ages\n\nDetails: Brian Grace will be at South 40 Bar &amp; Grill on Sunday, July 20th from 12-3 PM!
LOCATION:South 40 Bar & Grill - 6735 Garfield Avenue, Elbert, CO, 80106, US
END:VEVENT

END:VCALENDAR
