BEGIN:VCALENDAR
VERSION:2.0
BEGIN:VEVENT
CLASS:PUBLIC
CATEGORIES:MEETING
DTSTART;TZID=America/New_York:20250802T210000
DTEND;TZID=America/New_York:20250802T210000
SUMMARY:LESSON ZERO at Celtic House
DESCRIPTION:Price: free\nAge Limit: All Ages\n\nDetails: Great venue, good Irish food and drinks, friendly folks, street parking, no cover, and way cool music from Oasis recording artist LESSON ZERO
LOCATION:Celtic House - 2500 Columbia Pike, Arlington, VA, 22204, US
END:VEVENT

END:VCALENDAR
