BEGIN:VCALENDAR
VERSION:2.0
BEGIN:VEVENT
CLASS:PUBLIC
CATEGORIES:MEETING
DTSTART;TZID=America/New_York:20250726T180000
DTEND;TZID=America/New_York:20250726T180000
SUMMARY:PR1 Promotions / DJ Tiburon at American Legion Glen Peters Post 266
DESCRIPTION:Age Limit: All Ages\n\nDetails: Christmas in July. Come on celebrate Florida style.  Enjoy dinner as well. 6pm-9pm.
LOCATION:American Legion Glen Peters Post 266 - 5201 Richardson Road, Sarasota, FL, 34232, US
END:VEVENT

END:VCALENDAR
