BEGIN:VCALENDAR
VERSION:2.0
BEGIN:VEVENT
CLASS:PUBLIC
CATEGORIES:MEETING
DTSTART;TZID=America/Denver:20250830T120000
DTEND;TZID=America/Denver:20250830T120000
SUMMARY:Brian Grace Music at Pine Days
DESCRIPTION:Age Limit: All Ages\n\nDetails: Brian Grace will be performing at Pine Days on Saturday, August 30th from 12:15-1:30 PM!
LOCATION:Pine Days - Pine Valley Road, Pine, CO, 80470, US
END:VEVENT

END:VCALENDAR
