BEGIN:VCALENDAR
VERSION:2.0
BEGIN:VEVENT
CLASS:PUBLIC
CATEGORIES:MEETING
DTSTART;TZID=America/Denver:20250829T180000
DTEND;TZID=America/Denver:20250829T180000
SUMMARY:Brian Grace Music at Crossroads Pub & Grill
DESCRIPTION:Age Limit: All Ages\n\nDetails: Brian Grace will be at Crossroads Pub &amp; Grill in Pine, CO on Friday, August 30th from 6-9 PM!
LOCATION:Crossroads Pub & Grill - 16 Mount Evans Boulevard, Pine, CO, 80470, US
END:VEVENT

END:VCALENDAR
