BEGIN:VCALENDAR
VERSION:2.0
BEGIN:VEVENT
CLASS:PUBLIC
CATEGORIES:MEETING
DTSTART;TZID=America/Denver:20250809T160000
DTEND;TZID=America/Denver:20250809T160000
SUMMARY:Brian Grace Music at Mad Jacks Mountain Brewery
DESCRIPTION:Age Limit: All Ages\n\nDetails: Brian Grace will be at Craft Mountain Brewery in Bailey, CO on Saturday, August 9th at 4 PM!
LOCATION:Mad Jacks Mountain Brewery - 23 Main Street, Bailey, CO, 80421, US
END:VEVENT

END:VCALENDAR
