BEGIN:VCALENDAR
VERSION:2.0
BEGIN:VEVENT
CLASS:PUBLIC
CATEGORIES:MEETING
DTSTART;TZID=America/Denver:20250802T190000
DTEND;TZID=America/Denver:20250802T190000
SUMMARY:Brian Grace Music at The District Kitchen & Saloon
DESCRIPTION:Age Limit: All Ages\n\nDetails: Brian Grace will be at The District Kitchen and Saloon in Cripple Creek on Saturday, August 2nd at 7 PM!
LOCATION:The District Kitchen & Saloon - 376 E Bennett Ave, Cripple Creek, CO, 80813, US
END:VEVENT

END:VCALENDAR
