BEGIN:VCALENDAR
VERSION:2.0
BEGIN:VEVENT
CLASS:PUBLIC
CATEGORIES:MEETING
DTSTART;TZID=America/Denver:20250719T160000
DTEND;TZID=America/Denver:20250719T160000
SUMMARY:Brian Grace Music at Elizabeth, CO
DESCRIPTION:Age Limit: All Ages\n\nDetails: Brian Grace will be at Elizabeth Kitchen &amp; Bar on Saturday, July 19th from 4-7 PM for Bike Wash Day!
LOCATION:Elizabeth, CO - Elizabeth, CO, US
END:VEVENT

END:VCALENDAR
