BEGIN:VCALENDAR
VERSION:2.0
BEGIN:VEVENT
CLASS:PUBLIC
CATEGORIES:MEETING
DTSTART;TZID=Asia/Kolkata:20250702T200000
DTEND;TZID=Asia/Kolkata:20250702T200000
SUMMARY:Arogya Yoga School at Arogya Yoga School
DESCRIPTION:Price: 500\nClick here to buy tickets: https://www.yinyogafoundation.com/\nAge Limit: All Ages\n\nDetails: Arogya Yoga School in Rishikesh offers a specialized Yin Yoga Teacher Training Course designed for both beginners and experienced practitioners. This program focuses on deep tissue release, mindfulness, and the meditative aspects of yoga. Rooted in traditional Chinese medicine and yoga philosophy, the course includes asanas, anatomy, energy meridians, and teaching methodology. Led by experienced instructors, the training fosters self-awareness and personal growth while preparing students to teach Yin Yoga confidently. Set in the serene surroundings of Rishikesh, the program offers a transformative experience, ideal for those seeking inner stillness and a deeper understanding of yoga’s restorative practices.
LOCATION:Arogya Yoga School - Lane Number 10, Rishikesh, UT, 249201, IN
END:VEVENT

END:VCALENDAR
