BEGIN:VCALENDAR
VERSION:2.0
BEGIN:VEVENT
CLASS:PUBLIC
CATEGORIES:MEETING
DTSTART;TZID=Asia/Kolkata:20250529T200000
DTEND;TZID=Asia/Kolkata:20250529T200000
SUMMARY:Arogya Yoga School at Arogya Yoga School
DESCRIPTION:Price: 599\nClick here to buy tickets: https://www.arogyayogaschool.com/\nAge Limit: All Ages\n\nDetails: Arogya Yoga School in Rishikesh offers a comprehensive Yoga Teacher Training program certified by Yoga Alliance USA. Nestled in the spiritual heart of India, the school provides an immersive experience in traditional Hatha and Ashtanga yoga. The 200-hour course includes asanas, pranayama, meditation, philosophy, anatomy, and teaching methodology. With experienced instructors and a supportive environment, students gain deep knowledge and practical skills to become confident yoga teachers. The serene setting near the Ganges enhances spiritual growth and inner peace. Arogya Yoga School is ideal for those seeking authentic yoga education and personal transformation in the birthplace of yoga.\n
LOCATION:Arogya Yoga School - Lane Number 10, Rishikesh, UT, 249201, IN
END:VEVENT

END:VCALENDAR
