BEGIN:VCALENDAR
VERSION:2.0
BEGIN:VEVENT
CLASS:PUBLIC
CATEGORIES:MEETING
DTSTART;TZID=America/New_York:20250726T120000
DTEND;TZID=America/New_York:20250726T120000
SUMMARY:Bob Niederriter at Nelson Ledges Quarry Park
DESCRIPTION:Age Limit: All Ages\n\nDetails: Trio performance with Jon Eshelman on Hammond organ , and Roy King on drums .
LOCATION:Nelson Ledges Quarry Park - 12001 Rt 282 Nelson Ledge Rd, Garrettsville, OH, 44231, US
END:VEVENT

END:VCALENDAR
