BEGIN:VCALENDAR
VERSION:2.0
BEGIN:VEVENT
CLASS:PUBLIC
CATEGORIES:MEETING
DTSTART;TZID=Europe/London:20250601T140000
DTEND;TZID=Europe/London:20250601T140000
SUMMARY:Small Days (Natalie Davis, and Dave Merrick) at Quaker Meeting House
DESCRIPTION:Price: £10\nClick here to buy tickets: https://dmerr9226@aol.com\nAge Limit: 14+\n\nDetails: A Journey with Native American Flute and Guitar with Inner Voice, (Dave Merrick and Clive Mills \n\n
LOCATION:Quaker Meeting House - Saint Mary's Road, Hemel Hempstead, HP2 5ZB, UK
END:VEVENT

END:VCALENDAR
