BEGIN:VCALENDAR
VERSION:2.0
BEGIN:VEVENT
CLASS:PUBLIC
CATEGORIES:MEETING
DTSTART;TZID=America/Chicago:20251102T183000
DTEND;TZID=America/Chicago:20251102T183000
SUMMARY:Texas Flood at Ice House on Main
DESCRIPTION:Click here to buy tickets: https://www.gl13tickets.com/\nAge Limit: All Ages
LOCATION:Ice House on Main - 800 North Main Street, Bryan, TX, 77803, US
END:VEVENT

END:VCALENDAR
