BEGIN:VCALENDAR
VERSION:2.0
BEGIN:VEVENT
CLASS:PUBLIC
CATEGORIES:MEETING
DTSTART;TZID=America/Chicago:20250913T200000
DTEND;TZID=America/Chicago:20250913T200000
SUMMARY:The Elders at Ninth Annual AOH Celtic Street Faire
DESCRIPTION:Price: FREE\nAge Limit: All Ages
LOCATION:Ninth Annual AOH Celtic Street Faire - 701 Felix Street, St Joseph, MO, 64501, US
END:VEVENT

END:VCALENDAR
