BEGIN:VCALENDAR
VERSION:2.0
BEGIN:VEVENT
CLASS:PUBLIC
CATEGORIES:MEETING
DTSTART:20250524T220000Z
DTEND:20250524T220000Z
SUMMARY:Brian Grace Music at Private Party
DESCRIPTION:Age Limit: All Ages\n\nDetails: Brian Grace has a private party on Saturday, May 24th at 6 PM!
LOCATION:Private Party - CR 340, Terrell, TX, US
END:VEVENT

END:VCALENDAR
