BEGIN:VCALENDAR
VERSION:2.0
BEGIN:VEVENT
CLASS:PUBLIC
CATEGORIES:MEETING
DTSTART;TZID=America/Chicago:20250605T180000
DTEND;TZID=America/Chicago:20250605T180000
SUMMARY:Brian Grace Music at Jalapeno's Lemon Pepper
DESCRIPTION:Age Limit: All Ages\n\nDetails: Brian Grace will be at Jalapeño&#39;s Lemon Pepper in Midlothian on Thursday, June 4th from 6-9 PM!
LOCATION:Jalapeno's Lemon Pepper - 400 West Avenue F, Midlothian, TX, 76065, US
END:VEVENT

END:VCALENDAR
