BEGIN:VCALENDAR
VERSION:2.0
BEGIN:VEVENT
CLASS:PUBLIC
CATEGORIES:MEETING
DTSTART;TZID=America/Denver:20250627T180000
DTEND;TZID=America/Denver:20250627T180000
SUMMARY:Brian Grace Music at Crossroads
DESCRIPTION:Age Limit: All Ages\n\nDetails: Brian Grace and DeAnna Wendolyn will be at Crossroads Pub &amp; Grill on Friday, June 27th from 6-9 PM!
LOCATION:Crossroads - 16 Mt Evans Blvd, Pine, CO, 80470, US
END:VEVENT

END:VCALENDAR
