BEGIN:VCALENDAR
VERSION:2.0
BEGIN:VEVENT
CLASS:PUBLIC
CATEGORIES:MEETING
DTSTART;TZID=America/Denver:20250712T150000
DTEND;TZID=America/Denver:20250712T150000
SUMMARY:Brian Grace Music at Crossroads
DESCRIPTION:Age Limit: All Ages\n\nDetails: Brian Grace will be at Crossroads Pub and Grill on Saturday, July 12th from 3-6PM!
LOCATION:Crossroads - 16 Mt Evans Blvd, Pine, CO, 80470, US
END:VEVENT

END:VCALENDAR
