BEGIN:VCALENDAR
VERSION:2.0
BEGIN:VEVENT
CLASS:PUBLIC
CATEGORIES:MEETING
DTSTART;TZID=America/New_York:20250907T180000
DTEND;TZID=America/New_York:20250907T180000
SUMMARY:Lisa Martin at Ludlow Gazebo
DESCRIPTION:Age Limit: All Ages\n\nDetails: Full band show! Ludlow Summer Concert Series. All ages. Bring your own chairs and picnic. Plenty of shade. Music from 6:00-7:30pm. Weather permitting. 
LOCATION:Ludlow Gazebo - Ludlow, MA, US
END:VEVENT

END:VCALENDAR
