BEGIN:VCALENDAR
VERSION:2.0
BEGIN:VEVENT
CLASS:PUBLIC
CATEGORIES:MEETING
DTSTART;TZID=America/New_York:20250524T180000
DTEND;TZID=America/New_York:20250524T180000
SUMMARY:Lisa Martin at Student Prince and Fort Cafe
DESCRIPTION:Age Limit: All Ages\n\nDetails: Trio performs at the coolest outdoor Venue in Springfield! Rain or shine (music moves indoors if necessary) Music til 9pm
LOCATION:Student Prince and Fort Cafe - Springfield, MA, US
END:VEVENT

END:VCALENDAR
