BEGIN:VCALENDAR
VERSION:2.0
BEGIN:VEVENT
CLASS:PUBLIC
CATEGORIES:MEETING
DTSTART;TZID=America/Indiana/Indianapolis:20250503T060000
DTEND;TZID=America/Indiana/Indianapolis:20250503T060000
SUMMARY:Kev Foster at Omni Severin Hotel
DESCRIPTION:Age Limit: All Ages\n\nDetails: mini marathon
LOCATION:Omni Severin Hotel - 40 West Jackson Place, Indianapolis, IN, 46225, US
END:VEVENT

END:VCALENDAR
