BEGIN:VCALENDAR
VERSION:2.0
BEGIN:VEVENT
CLASS:PUBLIC
CATEGORIES:MEETING
DTSTART;TZID=America/Chicago:20251109T183000
DTEND;TZID=America/Chicago:20251109T183000
SUMMARY:Texas Flood at Historic Dixon Theatre
DESCRIPTION:Click here to buy tickets: https://dixontheatre.com/event/texas-flood-stevie-ray-von-tribute/\nAge Limit: All Ages
LOCATION:Historic Dixon Theatre - Dixon, IL, US
END:VEVENT

END:VCALENDAR
