BEGIN:VCALENDAR
VERSION:2.0
BEGIN:VEVENT
CLASS:PUBLIC
CATEGORIES:MEETING
DTSTART;TZID=America/Chicago:20251106T200000
DTEND;TZID=America/Chicago:20251106T200000
SUMMARY:Texas Flood at Arcada Theatre
DESCRIPTION:Click here to buy tickets: https://gotickets.com/tickets/867936/journeyman-tribute-to-eric-clapton-tickets/arcada-theatre-st-charles-il-11-6-2025\nAge Limit: All Ages
LOCATION:Arcada Theatre - 105 E Main St, St Charles, IL, 60174, US
END:VEVENT

END:VCALENDAR
