BEGIN:VCALENDAR
VERSION:2.0
BEGIN:VEVENT
CLASS:PUBLIC
CATEGORIES:MEETING
DTSTART;TZID=America/Chicago:20250614T190000
DTEND;TZID=America/Chicago:20250614T190000
SUMMARY:Brian Grace Music at Sledge Distillery
DESCRIPTION:Age Limit: All Ages\n\nDetails: Brian Grace will be at Sledge Distillery on Saturday, June 14th from 7-10 PM!
LOCATION:Sledge Distillery - 8210 Farm to Market 51, Tolar, TX, 76476, US
END:VEVENT

END:VCALENDAR
