BEGIN:VCALENDAR
VERSION:2.0
BEGIN:VEVENT
CLASS:PUBLIC
CATEGORIES:MEETING
DTSTART;TZID=America/Chicago:20250503T190000
DTEND;TZID=America/Chicago:20250503T190000
SUMMARY:Brian Grace Music at Hard * BBQ
DESCRIPTION:Age Limit: All Ages\n\nDetails: Brian Grace will be at Hard Eight BBQ in Roanoke on Saturday, May 3rd from 7-9 PM!
LOCATION:Hard * BBQ - 205 South Oak Stree, Roanoke, TX, 76262, US
END:VEVENT

END:VCALENDAR
