BEGIN:VCALENDAR
VERSION:2.0
BEGIN:VEVENT
CLASS:PUBLIC
CATEGORIES:MEETING
DTSTART;TZID=America/Denver:20250704T140000
DTEND;TZID=America/Denver:20250704T140000
SUMMARY:Brian Grace Music at Colorado Mountain Distillery
DESCRIPTION:Age Limit: All Ages\n\nDetails: Brian Grace will be at Colorado Mountain Distillery on Friday, July 4th at 2 PM for the Independence Day Celebration!
LOCATION:Colorado Mountain Distillery - 611 Canyon Drive, Florissant, CO, 80816, US
END:VEVENT

END:VCALENDAR
