BEGIN:VCALENDAR
VERSION:2.0
BEGIN:VEVENT
CLASS:PUBLIC
CATEGORIES:MEETING
DTSTART;TZID=America/Denver:20250727T120000
DTEND;TZID=America/Denver:20250727T120000
SUMMARY:Brian Grace Music at Cutthroat Cafe
DESCRIPTION:Age Limit: All Ages\n\nDetails: Brian Grace will be at Cutthroat Cafe in Bailey, CO on Sunday, July 27th from 12-3 PM!
LOCATION:Cutthroat Cafe - 157 Main Street, Bailey, CO, 80421, US
END:VEVENT

END:VCALENDAR
