BEGIN:VCALENDAR
VERSION:2.0
BEGIN:VEVENT
CLASS:PUBLIC
CATEGORIES:MEETING
DTSTART;TZID=America/Denver:20250629T120000
DTEND;TZID=America/Denver:20250629T120000
SUMMARY:Brian Grace Music at Cutthroat Cafe
DESCRIPTION:Age Limit: All Ages\n\nDetails: Brian Grace and DeAnna Wendolyn will be at Cutthroat Cafe on Sunday, June 29th from 12-3 PM!
LOCATION:Cutthroat Cafe - 157 Main Street, Bailey, CO, 80421, US
END:VEVENT

END:VCALENDAR
