BEGIN:VCALENDAR
VERSION:2.0
BEGIN:VEVENT
CLASS:PUBLIC
CATEGORIES:MEETING
DTSTART;TZID=America/New_York:20250621T130000
DTEND;TZID=America/New_York:20250621T130000
SUMMARY:LESSON ZERO at Vanish Brewery
DESCRIPTION:Price: free\nAge Limit: All Ages\n\nDetails: Vanish Farmwoods Brewery presents the music of Oasis recording artist LESSON ZERO.
LOCATION:Vanish Brewery - 42264 Leelynn Farm Lane, Leesburg, VA, 20176, US
END:VEVENT

END:VCALENDAR
