BEGIN:VCALENDAR
VERSION:2.0
BEGIN:VEVENT
CLASS:PUBLIC
CATEGORIES:MEETING
DTSTART;TZID=America/Chicago:20251212T173000
DTEND;TZID=America/Chicago:20251212T173000
SUMMARY:Michael Charles at The B. Bar
DESCRIPTION:Age Limit: All Ages\n\nDetails: “The Guitars, Music and Miles 2025 tour drives the power trio of Michael Charles straight to you for a non-stop concert explosion of music and guitars, contemporary blues, high energy rock, and soulful ballads from the forty-one release discography of multi-genre Chicago Blues Hall of Famer Michael Charles.” 
LOCATION:The B. Bar - 4330 Leavenworth Street, Omaha, NE, 68105, US
END:VEVENT

END:VCALENDAR
