BEGIN:VCALENDAR
VERSION:2.0
BEGIN:VEVENT
CLASS:PUBLIC
CATEGORIES:MEETING
DTSTART;TZID=America/Los_Angeles:20250524T200000
DTEND;TZID=America/Los_Angeles:20250524T200000
SUMMARY:LeBono at Bodega Bar and Grill
DESCRIPTION:Age Limit: All Ages\n\nDetails: LeBono is your Premier Band for Rock Covers of the biggest hits of the 70s, 80s, 90s, and 2000s  linktr.ee/k.lebono !!!
LOCATION:Bodega Bar and Grill - 201 North Citrus Avenue, Covina, CA, 91723, US
END:VEVENT

END:VCALENDAR
