BEGIN:VCALENDAR
VERSION:2.0
BEGIN:VEVENT
CLASS:PUBLIC
CATEGORIES:MEETING
DTSTART;TZID=America/New_York:20250503T160000
DTEND;TZID=America/New_York:20250503T160000
SUMMARY:Henning Stumm at Mansion House
DESCRIPTION:Age Limit: All Ages\n\nDetails: An evening of live Jazz and great food. I will be playing with Paul Kendall and his Jazz Ensemble
LOCATION:Mansion House - 271 West Ludlow Street, Summit Hill, PA, 18250, US
END:VEVENT

END:VCALENDAR
