BEGIN:VCALENDAR
VERSION:2.0
BEGIN:VEVENT
CLASS:PUBLIC
CATEGORIES:MEETING
DTSTART;TZID=Europe/London:20251010T180000
DTEND;TZID=Europe/London:20251010T180000
SUMMARY:BB BlackDog Steampunk Rock at The Black Market Venue
DESCRIPTION:Price: £30\nClick here to buy tickets: https://www.gigantic.com/phoenix-alternative-festivals-tickets/warsop-black-market/2024-11-01-18-00\nAge Limit: All Ages\n\nDetails: Our beloved PAF Dates for your diaries!\nHere it is! Our small and beautiful boutique Festival\nIndoor 500 Hall, Great food Great Beer, Camper Van Spots\nRun by Steampunks for everyone from all sub-cultures to come together, have fun and raise money for charity while we party! At the Wonderful BlackMarket Venue\nAn eclectic mix of local and international acts plus plenty of activities to enjoy and participate in. Simply put, a festival filled with creatives from around the globe...and beyond.\nCome and get inspired!\nMore information and Ticket Link to come as we go along, folks!\nSee you there? We most certainly hope so!\nps. Tell your friends! Thank You! x\nConfirmed Acts So Far in no particular order\nPOISONED ELECTRICK HEAD\nBB BLACKDOG,\nTHE SPIRAL NAVIGATORS\nDADAXL,\nTHE WATTINGERS\nELECTRIC CAKE SALAD\nWith Jezebel Steeles Late Night Cabaret Friday and Saturday\nWatch this Space for Full Timings and acts as they are announced. 
LOCATION:The Black Market Venue - High Street, Mansfield, NOTTS, NG20 0AB, UK
END:VEVENT

END:VCALENDAR
