BEGIN:VCALENDAR
VERSION:2.0
BEGIN:VEVENT
CLASS:PUBLIC
CATEGORIES:MEETING
DTSTART;TZID=Europe/London:20250912T180000
DTEND;TZID=Europe/London:20250912T180000
SUMMARY:BB BlackDog Steampunk Rock at The Bear Inn
DESCRIPTION:Price: Free\nAge Limit: All Ages\n\nDetails: Any Excuse For a Party,\nFriday 12th Sept 2025, and Saturday 13th Sept 2025\nWe&#39;ve booked the Bear Inn for the Party ! , Its Just up the road from The BB BlackDog Homebase.\nHeres The Link\nhttps://thebear-inn.co.uk/\nBands TBA but will Include :-\nBB BlackDog,\nElectric Cake Salad.\nDadaxl,\nDarmus,\nand Many more\nThere is Limited Camping (Get in touch with Dale) , and around 30 Camper Van spaces. There&#39;s an excellent selection of Beer and Food, plus for the event they will also be running a food stall with cheaper, Festival style options.\nIts at\nhttps://www.bing.com/maps...\nIt is free, donations are appreciated, (expected for Camper Van and camping spaces) and to be shared between the Bands, but spaces are limited as mentioned before, so get in touch with Dale\nWe&#39;ll be running 2 Stages alternating, One in the Large Indoor Hall, for the Bands, and one outdoor in a Marquee for Acoustic Acts,\nLive Music Will be from 7pm Friday and 1pm Saturday with a Curfew Of 11 pm for Loud Music Both Nights See less
LOCATION:The Bear Inn - Alderwasley,, Derbyshire, DE56 2RD, UK
END:VEVENT

END:VCALENDAR
